Workbook

Sheet Ore per volontario
A1: Volontario (scrivete il nome come nei fogli dei mesi) | B1: Ore di servizio svolte 2026
B2: =IF(A2="","",SUMIFS('Gen'!E:E,'Gen'!G:G,A2,'Gen'!H:H,"sì")+SUMIFS('Feb'!E:E,'Feb'!G:G,A2,'Feb'!H:H,"sì")+SUMIFS('Mar'!E:E,'Mar'!G:G,A2,'Mar'!H:H,"sì")+SUMIFS('Apr'!E:E,'Apr'!G:G,A2,'Apr'!H:H,"sì")+SUMIFS('Mag'!E:E,'Mag'!G:G,A2,'Mag'!H:H,"sì")+SUMIFS('Giu'!E:E,'Giu'!G:G,A2,'Giu'!H:H,"sì")+SUMIFS('Lug'!E:E,'Lug'!G:G,A2,'Lug'!H:H,"sì")+SUMIFS('Ago'!E:E,'Ago'!G:G,A2,'Ago'!H:H,"sì")+SUMIFS('Set'!E:E,'Set'!G:G,A2,'Set'!H:H,"sì")+SUMIFS('Ott'!E:E,'Ott'!G:G,A2,'Ott'!H:H,"sì")+SUMIFS('Nov'!E:E,'Nov'!G:G,A2,'Nov'!H:H,"sì")+SUMIFS('Dic'!E:E,'Dic'!G:G,A2,'Dic'!H:H,"sì"))
B3: =IF(A3="","",SUMIFS('Gen'!E:E,'Gen'!G:G,A3,'Gen'!H:H,"sì")+SUMIFS('Feb'!E:E,'Feb'!G:G,A3,'Feb'!H:H,"sì")+SUMIFS('Mar'!E:E,'Mar'!G:G,A3,'Mar'!H:H,"sì")+SUMIFS('Apr'!E:E,'Apr'!G:G,A3,'Apr'!H:H,"sì")+SUMIFS('Mag'!E:E,'Mag'!G:G,A3,'Mag'!H:H,"sì")+SUMIFS('Giu'!E:E,'Giu'!G:G,A3,'Giu'!H:H,"sì")+SUMIFS('Lug'!E:E,'Lug'!G:G,A3,'Lug'!H:H,"sì")+SUMIFS('Ago'!E:E,'Ago'!G:G,A3,'Ago'!H:H,"sì")+SUMIFS('Set'!E:E,'Set'!G:G,A3,'Set'!H:H,"sì")+SUMIFS('Ott'!E:E,'Ott'!G:G,A3,'Ott'!H:H,"sì")+SUMIFS('Nov'!E:E,'Nov'!G:G,A3,'Nov'!H:H,"sì")+SUMIFS('Dic'!E:E,'Dic'!G:G,A3,'Dic'!H:H,"sì"))
B4: =IF(A4="","",SUMIFS('Gen'!E:E,'Gen'!G:G,A4,'Gen'!H:H,"sì")+SUMIFS('Feb'!E:E,'Feb'!G:G,A4,'Feb'!H:H,"sì")+SUMIFS('Mar'!E:E,'Mar'!G:G,A4,'Mar'!H:H,"sì")+SUMIFS('Apr'!E:E,'Apr'!G:G,A4,'Apr'!H:H,"sì")+SUMIFS('Mag'!E:E,'Mag'!G:G,A4,'Mag'!H:H,"sì")+SUMIFS('Giu'!E:E,'Giu'!G:G,A4,'Giu'!H:H,"sì")+SUMIFS('Lug'!E:E,'Lug'!G:G,A4,'Lug'!H:H,"sì")+SUMIFS('Ago'!E:E,'Ago'!G:G,A4,'Ago'!H:H,"sì")+SUMIFS('Set'!E:E,'Set'!G:G,A4,'Set'!H:H,"sì")+SUMIFS('Ott'!E:E,'Ott'!G:G,A4,'Ott'!H:H,"sì")+SUMIFS('Nov'!E:E,'Nov'!G:G,A4,'Nov'!H:H,"sì")+SUMIFS('Dic'!E:E,'Dic'!G:G,A4,'Dic'!H:H,"sì"))
B5: =IF(A5="","",SUMIFS('Gen'!E:E,'Gen'!G:G,A5,'Gen'!H:H,"sì")+SUMIFS('Feb'!E:E,'Feb'!G:G,A5,'Feb'!H:H,"sì")+SUMIFS('Mar'!E:E,'Mar'!G:G,A5,'Mar'!H:H,"sì")+SUMIFS('Apr'!E:E,'Apr'!G:G,A5,'Apr'!H:H,"sì")+SUMIFS('Mag'!E:E,'Mag'!G:G,A5,'Mag'!H:H,"sì")+SUMIFS('Giu'!E:E,'Giu'!G:G,A5,'Giu'!H:H,"sì")+SUMIFS('Lug'!E:E,'Lug'!G:G,A5,'Lug'!H:H,"sì")+SUMIFS('Ago'!E:E,'Ago'!G:G,A5,'Ago'!H:H,"sì")+SUMIFS('Set'!E:E,'Set'!G:G,A5,'Set'!H:H,"sì")+SUMIFS('Ott'!E:E,'Ott'!G:G,A5,'Ott'!H:H,"sì")+SUMIFS('Nov'!E:E,'Nov'!G:G,A5,'Nov'!H:H,"sì")+SUMIFS('Dic'!E:E,'Dic'!G:G,A5,'Dic'!H:H,"sì"))
B6: =IF(A6="","",SUMIFS('Gen'!E:E,'Gen'!G:G,A6,'Gen'!H:H,"sì")+SUMIFS('Feb'!E:E,'Feb'!G:G,A6,'Feb'!H:H,"sì")+SUMIFS('Mar'!E:E,'Mar'!G:G,A6,'Mar'!H:H,"sì")+SUMIFS('Apr'!E:E,'Apr'!G:G,A6,'Apr'!H:H,"sì")+SUMIFS('Mag'!E:E,'Mag'!G:G,A6,'Mag'!H:H,"sì")+SUMIFS('Giu'!E:E,'Giu'!G:G,A6,'Giu'!H:H,"sì")+SUMIFS('Lug'!E:E,'Lug'!G:G,A6,'Lug'!H:H,"sì")+SUMIFS('Ago'!E:E,'Ago'!G:G,A6,'Ago'!H:H,"sì")+SUMIFS('Set'!E:E,'Set'!G:G,A6,'Set'!H:H,"sì")+SUMIFS('Ott'!E:E,'Ott'!G:G,A6,'Ott'!H:H,"sì")+SUMIFS('Nov'!E:E,'Nov'!G:G,A6,'Nov'!H:H,"sì")+SUMIFS('Dic'!E:E,'Dic'!G:G,A6,'Dic'!H:H,"sì"))
B7: =IF(A7="","",SUMIFS('Gen'!E:E,'Gen'!G:G,A7,'Gen'!H:H,"sì")+SUMIFS('Feb'!E:E,'Feb'!G:G,A7,'Feb'!H:H,"sì")+SUMIFS('Mar'!E:E,'Mar'!G:G,A7,'Mar'!H:H,"sì")+SUMIFS('Apr'!E:E,'Apr'!G:G,A7,'Apr'!H:H,"sì")+SUMIFS('Mag'!E:E,'Mag'!G:G,A7,'Mag'!H:H,"sì")+SUMIFS('Giu'!E:E,'Giu'!G:G,A7,'Giu'!H:H,"sì")+SUMIFS('Lug'!E:E,'Lug'!G:G,A7,'Lug'!H:H,"sì")+SUMIFS('Ago'!E:E,'Ago'!G:G,A7,'Ago'!H:H,"sì")+SUMIFS('Set'!E:E,'Set'!G:G,A7,'Set'!H:H,"sì")+SUMIFS('Ott'!E:E,'Ott'!G:G,A7,'Ott'!H:H,"sì")+SUMIFS('Nov'!E:E,'Nov'!G:G,A7,'Nov'!H:H,"sì")+SUMIFS('Dic'!E:E,'Dic'!G:G,A7,'Dic'!H:H,"sì"))
B8: =IF(A8="","",SUMIFS('Gen'!E:E,'Gen'!G:G,A8,'Gen'!H:H,"sì")+SUMIFS('Feb'!E:E,'Feb'!G:G,A8,'Feb'!H:H,"sì")+SUMIFS('Mar'!E:E,'Mar'!G:G,A8,'Mar'!H:H,"sì")+SUMIFS('Apr'!E:E,'Apr'!G:G,A8,'Apr'!H:H,"sì")+SUMIFS('Mag'!E:E,'Mag'!G:G,A8,'Mag'!H:H,"sì")+SUMIFS('Giu'!E:E,'Giu'!G:G,A8,'Giu'!H:H,"sì")+SUMIFS('Lug'!E:E,'Lug'!G:G,A8,'Lug'!H:H,"sì")+SUMIFS('Ago'!E:E,'Ago'!G:G,A8,'Ago'!H:H,"sì")+SUMIFS('Set'!E:E,'Set'!G:G,A8,'Set'!H:H,"sì")+SUMIFS('Ott'!E:E,'Ott'!G:G,A8,'Ott'!H:H,"sì")+SUMIFS('Nov'!E:E,'Nov'!G:G,A8,'Nov'!H:H,"sì")+SUMIFS('Dic'!E:E,'Dic'!G:G,A8,'Dic'!H:H,"sì"))
B9: =IF(A9="","",SUMIFS('Gen'!E:E,'Gen'!G:G,A9,'Gen'!H:H,"sì")+SUMIFS('Feb'!E:E,'Feb'!G:G,A9,'Feb'!H:H,"sì")+SUMIFS('Mar'!E:E,'Mar'!G:G,A9,'Mar'!H:H,"sì")+SUMIFS('Apr'!E:E,'Apr'!G:G,A9,'Apr'!H:H,"sì")+SUMIFS('Mag'!E:E,'Mag'!G:G,A9,'Mag'!H:H,"sì")+SUMIFS('Giu'!E:E,'Giu'!G:G,A9,'Giu'!H:H,"sì")+SUMIFS('Lug'!E:E,'Lug'!G:G,A9,'Lug'!H:H,"sì")+SUMIFS('Ago'!E:E,'Ago'!G:G,A9,'Ago'!H:H,"sì")+SUMIFS('Set'!E:E,'Set'!G:G,A9,'Set'!H:H,"sì")+SUMIFS('Ott'!E:E,'Ott'!G:G,A9,'Ott'!H:H,"sì")+SUMIFS('Nov'!E:E,'Nov'!G:G,A9,'Nov'!H:H,"sì")+SUMIFS('Dic'!E:E,'Dic'!G:G,A9,'Dic'!H:H,"sì"))
B10: =IF(A10="","",SUMIFS('Gen'!E:E,'Gen'!G:G,A10,'Gen'!H:H,"sì")+SUMIFS('Feb'!E:E,'Feb'!G:G,A10,'Feb'!H:H,"sì")+SUMIFS('Mar'!E:E,'Mar'!G:G,A10,'Mar'!H:H,"sì")+SUMIFS('Apr'!E:E,'Apr'!G:G,A10,'Apr'!H:H,"sì")+SUMIFS('Mag'!E:E,'Mag'!G:G,A10,'Mag'!H:H,"sì")+SUMIFS('Giu'!E:E,'Giu'!G:G,A10,'Giu'!H:H,"sì")+SUMIFS('Lug'!E:E,'Lug'!G:G,A10,'Lug'!H:H,"sì")+SUMIFS('Ago'!E:E,'Ago'!G:G,A10,'Ago'!H:H,"sì")+SUMIFS('Set'!E:E,'Set'!G:G,A10,'Set'!H:H,"sì")+SUMIFS('Ott'!E:E,'Ott'!G:G,A10,'Ott'!H:H,"sì")+SUMIFS('Nov'!E:E,'Nov'!G:G,A10,'Nov'!H:H,"sì")+SUMIFS('Dic'!E:E,'Dic'!G:G,A10,'Dic'!H:H,"sì"))
B11: =IF(A11="","",SUMIFS('Gen'!E:E,'Gen'!G:G,A11,'Gen'!H:H,"sì")+SUMIFS('Feb'!E:E,'Feb'!G:G,A11,'Feb'!H:H,"sì")+SUMIFS('Mar'!E:E,'Mar'!G:G,A11,'Mar'!H:H,"sì")+SUMIFS('Apr'!E:E,'Apr'!G:G,A11,'Apr'!H:H,"sì")+SUMIFS('Mag'!E:E,'Mag'!G:G,A11,'Mag'!H:H,"sì")+SUMIFS('Giu'!E:E,'Giu'!G:G,A11,'Giu'!H:H,"sì")+SUMIFS('Lug'!E:E,'Lug'!G:G,A11,'Lug'!H:H,"sì")+SUMIFS('Ago'!E:E,'Ago'!G:G,A11,'Ago'!H:H,"sì")+SUMIFS('Set'!E:E,'Set'!G:G,A11,'Set'!H:H,"sì")+SUMIFS('Ott'!E:E,'Ott'!G:G,A11,'Ott'!H:H,"sì")+SUMIFS('Nov'!E:E,'Nov'!G:G,A11,'Nov'!H:H,"sì")+SUMIFS('Dic'!E:E,'Dic'!G:G,A11,'Dic'!H:H,"sì"))
B12: =IF(A12="","",SUMIFS('Gen'!E:E,'Gen'!G:G,A12,'Gen'!H:H,"sì")+SUMIFS('Feb'!E:E,'Feb'!G:G,A12,'Feb'!H:H,"sì")+SUMIFS('Mar'!E:E,'Mar'!G:G,A12,'Mar'!H:H,"sì")+SUMIFS('Apr'!E:E,'Apr'!G:G,A12,'Apr'!H:H,"sì")+SUMIFS('Mag'!E:E,'Mag'!G:G,A12,'Mag'!H:H,"sì")+SUMIFS('Giu'!E:E,'Giu'!G:G,A12,'Giu'!H:H,"sì")+SUMIFS('Lug'!E:E,'Lug'!G:G,A12,'Lug'!H:H,"sì")+SUMIFS('Ago'!E:E,'Ago'!G:G,A12,'Ago'!H:H,"sì")+SUMIFS('Set'!E:E,'Set'!G:G,A12,'Set'!H:H,"sì")+SUMIFS('Ott'!E:E,'Ott'!G:G,A12,'Ott'!H:H,"sì")+SUMIFS('Nov'!E:E,'Nov'!G:G,A12,'Nov'!H:H,"sì")+SUMIFS('Dic'!E:E,'Dic'!G:G,A12,'Dic'!H:H,"sì"))
B13: =IF(A13="","",SUMIFS('Gen'!E:E,'Gen'!G:G,A13,'Gen'!H:H,"sì")+SUMIFS('Feb'!E:E,'Feb'!G:G,A13,'Feb'!H:H,"sì")+SUMIFS('Mar'!E:E,'Mar'!G:G,A13,'Mar'!H:H,"sì")+SUMIFS('Apr'!E:E,'Apr'!G:G,A13,'Apr'!H:H,"sì")+SUMIFS('Mag'!E:E,'Mag'!G:G,A13,'Mag'!H:H,"sì")+SUMIFS('Giu'!E:E,'Giu'!G:G,A13,'Giu'!H:H,"sì")+SUMIFS('Lug'!E:E,'Lug'!G:G,A13,'Lug'!H:H,"sì")+SUMIFS('Ago'!E:E,'Ago'!G:G,A13,'Ago'!H:H,"sì")+SUMIFS('Set'!E:E,'Set'!G:G,A13,'Set'!H:H,"sì")+SUMIFS('Ott'!E:E,'Ott'!G:G,A13,'Ott'!H:H,"sì")+SUMIFS('Nov'!E:E,'Nov'!G:G,A13,'Nov'!H:H,"sì")+SUMIFS('Dic'!E:E,'Dic'!G:G,A13,'Dic'!H:H,"sì"))
... B81: =IF(A81="","",SUMIFS('Gen'!E:E,'Gen'!G:G,A81,'Gen'!H:H,"sì")+SUMIFS('Feb'!E:E,'Feb'!G:G,A81,'Feb'!H:H,"sì")+SUMIFS('Mar'!E:E,'Mar'!G:G,A81,'Mar'!H:H,"sì")+SUMIFS('Apr'!E:E,'Apr'!G:G,A81,'Apr'!H:H,"sì")+SUMIFS('Mag'!E:E,'Mag'!G:G,A81,'Mag'!H:H,"sì")+SUMIFS('Giu'!E:E,'Giu'!G:G,A81,'Giu'!H:H,"sì")+SUMIFS('Lug'!E:E,'Lug'!G:G,A81,'Lug'!H:H,"sì")+SUMIFS('Ago'!E:E,'Ago'!G:G,A81,'Ago'!H:H,"sì")+SUMIFS('Set'!E:E,'Set'!G:G,A81,'Set'!H:H,"sì")+SUMIFS('Ott'!E:E,'Ott'!G:G,A81,'Ott'!H:H,"sì")+SUMIFS('Nov'!E:E,'Nov'!G:G,A81,'Nov'!H:H,"sì")+SUMIFS('Dic'!E:E,'Dic'!G:G,A81,'Dic'!H:H,"sì"))

Sheet Gen
A1: Data | B1: Giorno | C1: Dalle | D1: Alle | E1: Ore | F1: Ruolo | G1: Volontario in turno | H1: Presente (sì/no) | I1: Sostituito da | J1: Note
A2: 46023 | B2: gio | C2: 08:00 | D2: 14:00 | E2: =IF(OR(C2="",D2=""),"",ROUND(MOD(TIMEVALUE(D2)-TIMEVALUE(C2),1)*24,2))
A3: 46023 | B3: gio | C3: 14:00 | D3: 20:00 | E3: =IF(OR(C3="",D3=""),"",ROUND(MOD(TIMEVALUE(D3)-TIMEVALUE(C3),1)*24,2))
A4: 46024 | B4: ven | C4: 08:00 | D4: 14:00 | E4: =IF(OR(C4="",D4=""),"",ROUND(MOD(TIMEVALUE(D4)-TIMEVALUE(C4),1)*24,2))
A5: 46024 | B5: ven | C5: 14:00 | D5: 20:00 | E5: =IF(OR(C5="",D5=""),"",ROUND(MOD(TIMEVALUE(D5)-TIMEVALUE(C5),1)*24,2))
A6: 46025 | B6: sab | C6: 08:00 | D6: 14:00 | E6: =IF(OR(C6="",D6=""),"",ROUND(MOD(TIMEVALUE(D6)-TIMEVALUE(C6),1)*24,2))
A7: 46025 | B7: sab | C7: 14:00 | D7: 20:00 | E7: =IF(OR(C7="",D7=""),"",ROUND(MOD(TIMEVALUE(D7)-TIMEVALUE(C7),1)*24,2))
A8: 46026 | B8: dom | C8: 08:00 | D8: 14:00 | E8: =IF(OR(C8="",D8=""),"",ROUND(MOD(TIMEVALUE(D8)-TIMEVALUE(C8),1)*24,2))
A9: 46026 | B9: dom | C9: 14:00 | D9: 20:00 | E9: =IF(OR(C9="",D9=""),"",ROUND(MOD(TIMEVALUE(D9)-TIMEVALUE(C9),1)*24,2))
A10: 46027 | B10: lun | C10: 08:00 | D10: 14:00 | E10: =IF(OR(C10="",D10=""),"",ROUND(MOD(TIMEVALUE(D10)-TIMEVALUE(C10),1)*24,2))
A11: 46027 | B11: lun | C11: 14:00 | D11: 20:00 | E11: =IF(OR(C11="",D11=""),"",ROUND(MOD(TIMEVALUE(D11)-TIMEVALUE(C11),1)*24,2))
A12: 46028 | B12: mar | C12: 08:00 | D12: 14:00 | E12: =IF(OR(C12="",D12=""),"",ROUND(MOD(TIMEVALUE(D12)-TIMEVALUE(C12),1)*24,2))
A13: 46028 | B13: mar | C13: 14:00 | D13: 20:00 | E13: =IF(OR(C13="",D13=""),"",ROUND(MOD(TIMEVALUE(D13)-TIMEVALUE(C13),1)*24,2))
... A63: 46053 | B63: sab | C63: 14:00 | D63: 20:00 | E63: =IF(OR(C63="",D63=""),"",ROUND(MOD(TIMEVALUE(D63)-TIMEVALUE(C63),1)*24,2))

Sheet Feb
A1: Data | B1: Giorno | C1: Dalle | D1: Alle | E1: Ore | F1: Ruolo | G1: Volontario in turno | H1: Presente (sì/no) | I1: Sostituito da | J1: Note
A2: 46054 | B2: dom | C2: 08:00 | D2: 14:00 | E2: =IF(OR(C2="",D2=""),"",ROUND(MOD(TIMEVALUE(D2)-TIMEVALUE(C2),1)*24,2))
A3: 46054 | B3: dom | C3: 14:00 | D3: 20:00 | E3: =IF(OR(C3="",D3=""),"",ROUND(MOD(TIMEVALUE(D3)-TIMEVALUE(C3),1)*24,2))
A4: 46055 | B4: lun | C4: 08:00 | D4: 14:00 | E4: =IF(OR(C4="",D4=""),"",ROUND(MOD(TIMEVALUE(D4)-TIMEVALUE(C4),1)*24,2))
A5: 46055 | B5: lun | C5: 14:00 | D5: 20:00 | E5: =IF(OR(C5="",D5=""),"",ROUND(MOD(TIMEVALUE(D5)-TIMEVALUE(C5),1)*24,2))
A6: 46056 | B6: mar | C6: 08:00 | D6: 14:00 | E6: =IF(OR(C6="",D6=""),"",ROUND(MOD(TIMEVALUE(D6)-TIMEVALUE(C6),1)*24,2))
A7: 46056 | B7: mar | C7: 14:00 | D7: 20:00 | E7: =IF(OR(C7="",D7=""),"",ROUND(MOD(TIMEVALUE(D7)-TIMEVALUE(C7),1)*24,2))
A8: 46057 | B8: mer | C8: 08:00 | D8: 14:00 | E8: =IF(OR(C8="",D8=""),"",ROUND(MOD(TIMEVALUE(D8)-TIMEVALUE(C8),1)*24,2))
A9: 46057 | B9: mer | C9: 14:00 | D9: 20:00 | E9: =IF(OR(C9="",D9=""),"",ROUND(MOD(TIMEVALUE(D9)-TIMEVALUE(C9),1)*24,2))
A10: 46058 | B10: gio | C10: 08:00 | D10: 14:00 | E10: =IF(OR(C10="",D10=""),"",ROUND(MOD(TIMEVALUE(D10)-TIMEVALUE(C10),1)*24,2))
A11: 46058 | B11: gio | C11: 14:00 | D11: 20:00 | E11: =IF(OR(C11="",D11=""),"",ROUND(MOD(TIMEVALUE(D11)-TIMEVALUE(C11),1)*24,2))
A12: 46059 | B12: ven | C12: 08:00 | D12: 14:00 | E12: =IF(OR(C12="",D12=""),"",ROUND(MOD(TIMEVALUE(D12)-TIMEVALUE(C12),1)*24,2))
A13: 46059 | B13: ven | C13: 14:00 | D13: 20:00 | E13: =IF(OR(C13="",D13=""),"",ROUND(MOD(TIMEVALUE(D13)-TIMEVALUE(C13),1)*24,2))
... A57: 46081 | B57: sab | C57: 14:00 | D57: 20:00 | E57: =IF(OR(C57="",D57=""),"",ROUND(MOD(TIMEVALUE(D57)-TIMEVALUE(C57),1)*24,2))

Sheet Mar
A1: Data | B1: Giorno | C1: Dalle | D1: Alle | E1: Ore | F1: Ruolo | G1: Volontario in turno | H1: Presente (sì/no) | I1: Sostituito da | J1: Note
A2: 46082 | B2: dom | C2: 08:00 | D2: 14:00 | E2: =IF(OR(C2="",D2=""),"",ROUND(MOD(TIMEVALUE(D2)-TIMEVALUE(C2),1)*24,2))
A3: 46082 | B3: dom | C3: 14:00 | D3: 20:00 | E3: =IF(OR(C3="",D3=""),"",ROUND(MOD(TIMEVALUE(D3)-TIMEVALUE(C3),1)*24,2))
A4: 46083 | B4: lun | C4: 08:00 | D4: 14:00 | E4: =IF(OR(C4="",D4=""),"",ROUND(MOD(TIMEVALUE(D4)-TIMEVALUE(C4),1)*24,2))
A5: 46083 | B5: lun | C5: 14:00 | D5: 20:00 | E5: =IF(OR(C5="",D5=""),"",ROUND(MOD(TIMEVALUE(D5)-TIMEVALUE(C5),1)*24,2))
A6: 46084 | B6: mar | C6: 08:00 | D6: 14:00 | E6: =IF(OR(C6="",D6=""),"",ROUND(MOD(TIMEVALUE(D6)-TIMEVALUE(C6),1)*24,2))
A7: 46084 | B7: mar | C7: 14:00 | D7: 20:00 | E7: =IF(OR(C7="",D7=""),"",ROUND(MOD(TIMEVALUE(D7)-TIMEVALUE(C7),1)*24,2))
A8: 46085 | B8: mer | C8: 08:00 | D8: 14:00 | E8: =IF(OR(C8="",D8=""),"",ROUND(MOD(TIMEVALUE(D8)-TIMEVALUE(C8),1)*24,2))
A9: 46085 | B9: mer | C9: 14:00 | D9: 20:00 | E9: =IF(OR(C9="",D9=""),"",ROUND(MOD(TIMEVALUE(D9)-TIMEVALUE(C9),1)*24,2))
A10: 46086 | B10: gio | C10: 08:00 | D10: 14:00 | E10: =IF(OR(C10="",D10=""),"",ROUND(MOD(TIMEVALUE(D10)-TIMEVALUE(C10),1)*24,2))
A11: 46086 | B11: gio | C11: 14:00 | D11: 20:00 | E11: =IF(OR(C11="",D11=""),"",ROUND(MOD(TIMEVALUE(D11)-TIMEVALUE(C11),1)*24,2))
A12: 46087 | B12: ven | C12: 08:00 | D12: 14:00 | E12: =IF(OR(C12="",D12=""),"",ROUND(MOD(TIMEVALUE(D12)-TIMEVALUE(C12),1)*24,2))
A13: 46087 | B13: ven | C13: 14:00 | D13: 20:00 | E13: =IF(OR(C13="",D13=""),"",ROUND(MOD(TIMEVALUE(D13)-TIMEVALUE(C13),1)*24,2))
... A63: 46112 | B63: mar | C63: 14:00 | D63: 20:00 | E63: =IF(OR(C63="",D63=""),"",ROUND(MOD(TIMEVALUE(D63)-TIMEVALUE(C63),1)*24,2))

Sheet Apr
A1: Data | B1: Giorno | C1: Dalle | D1: Alle | E1: Ore | F1: Ruolo | G1: Volontario in turno | H1: Presente (sì/no) | I1: Sostituito da | J1: Note
A2: 46113 | B2: mer | C2: 08:00 | D2: 14:00 | E2: =IF(OR(C2="",D2=""),"",ROUND(MOD(TIMEVALUE(D2)-TIMEVALUE(C2),1)*24,2))
A3: 46113 | B3: mer | C3: 14:00 | D3: 20:00 | E3: =IF(OR(C3="",D3=""),"",ROUND(MOD(TIMEVALUE(D3)-TIMEVALUE(C3),1)*24,2))
A4: 46114 | B4: gio | C4: 08:00 | D4: 14:00 | E4: =IF(OR(C4="",D4=""),"",ROUND(MOD(TIMEVALUE(D4)-TIMEVALUE(C4),1)*24,2))
A5: 46114 | B5: gio | C5: 14:00 | D5: 20:00 | E5: =IF(OR(C5="",D5=""),"",ROUND(MOD(TIMEVALUE(D5)-TIMEVALUE(C5),1)*24,2))
A6: 46115 | B6: ven | C6: 08:00 | D6: 14:00 | E6: =IF(OR(C6="",D6=""),"",ROUND(MOD(TIMEVALUE(D6)-TIMEVALUE(C6),1)*24,2))
A7: 46115 | B7: ven | C7: 14:00 | D7: 20:00 | E7: =IF(OR(C7="",D7=""),"",ROUND(MOD(TIMEVALUE(D7)-TIMEVALUE(C7),1)*24,2))
A8: 46116 | B8: sab | C8: 08:00 | D8: 14:00 | E8: =IF(OR(C8="",D8=""),"",ROUND(MOD(TIMEVALUE(D8)-TIMEVALUE(C8),1)*24,2))
A9: 46116 | B9: sab | C9: 14:00 | D9: 20:00 | E9: =IF(OR(C9="",D9=""),"",ROUND(MOD(TIMEVALUE(D9)-TIMEVALUE(C9),1)*24,2))
A10: 46117 | B10: dom | C10: 08:00 | D10: 14:00 | E10: =IF(OR(C10="",D10=""),"",ROUND(MOD(TIMEVALUE(D10)-TIMEVALUE(C10),1)*24,2))
A11: 46117 | B11: dom | C11: 14:00 | D11: 20:00 | E11: =IF(OR(C11="",D11=""),"",ROUND(MOD(TIMEVALUE(D11)-TIMEVALUE(C11),1)*24,2))
A12: 46118 | B12: lun | C12: 08:00 | D12: 14:00 | E12: =IF(OR(C12="",D12=""),"",ROUND(MOD(TIMEVALUE(D12)-TIMEVALUE(C12),1)*24,2))
A13: 46118 | B13: lun | C13: 14:00 | D13: 20:00 | E13: =IF(OR(C13="",D13=""),"",ROUND(MOD(TIMEVALUE(D13)-TIMEVALUE(C13),1)*24,2))
... A61: 46142 | B61: gio | C61: 14:00 | D61: 20:00 | E61: =IF(OR(C61="",D61=""),"",ROUND(MOD(TIMEVALUE(D61)-TIMEVALUE(C61),1)*24,2))

Sheet Mag
A1: Data | B1: Giorno | C1: Dalle | D1: Alle | E1: Ore | F1: Ruolo | G1: Volontario in turno | H1: Presente (sì/no) | I1: Sostituito da | J1: Note
A2: 46143 | B2: ven | C2: 08:00 | D2: 14:00 | E2: =IF(OR(C2="",D2=""),"",ROUND(MOD(TIMEVALUE(D2)-TIMEVALUE(C2),1)*24,2))
A3: 46143 | B3: ven | C3: 14:00 | D3: 20:00 | E3: =IF(OR(C3="",D3=""),"",ROUND(MOD(TIMEVALUE(D3)-TIMEVALUE(C3),1)*24,2))
A4: 46144 | B4: sab | C4: 08:00 | D4: 14:00 | E4: =IF(OR(C4="",D4=""),"",ROUND(MOD(TIMEVALUE(D4)-TIMEVALUE(C4),1)*24,2))
A5: 46144 | B5: sab | C5: 14:00 | D5: 20:00 | E5: =IF(OR(C5="",D5=""),"",ROUND(MOD(TIMEVALUE(D5)-TIMEVALUE(C5),1)*24,2))
A6: 46145 | B6: dom | C6: 08:00 | D6: 14:00 | E6: =IF(OR(C6="",D6=""),"",ROUND(MOD(TIMEVALUE(D6)-TIMEVALUE(C6),1)*24,2))
A7: 46145 | B7: dom | C7: 14:00 | D7: 20:00 | E7: =IF(OR(C7="",D7=""),"",ROUND(MOD(TIMEVALUE(D7)-TIMEVALUE(C7),1)*24,2))
A8: 46146 | B8: lun | C8: 08:00 | D8: 14:00 | E8: =IF(OR(C8="",D8=""),"",ROUND(MOD(TIMEVALUE(D8)-TIMEVALUE(C8),1)*24,2))
A9: 46146 | B9: lun | C9: 14:00 | D9: 20:00 | E9: =IF(OR(C9="",D9=""),"",ROUND(MOD(TIMEVALUE(D9)-TIMEVALUE(C9),1)*24,2))
A10: 46147 | B10: mar | C10: 08:00 | D10: 14:00 | E10: =IF(OR(C10="",D10=""),"",ROUND(MOD(TIMEVALUE(D10)-TIMEVALUE(C10),1)*24,2))
A11: 46147 | B11: mar | C11: 14:00 | D11: 20:00 | E11: =IF(OR(C11="",D11=""),"",ROUND(MOD(TIMEVALUE(D11)-TIMEVALUE(C11),1)*24,2))
A12: 46148 | B12: mer | C12: 08:00 | D12: 14:00 | E12: =IF(OR(C12="",D12=""),"",ROUND(MOD(TIMEVALUE(D12)-TIMEVALUE(C12),1)*24,2))
A13: 46148 | B13: mer | C13: 14:00 | D13: 20:00 | E13: =IF(OR(C13="",D13=""),"",ROUND(MOD(TIMEVALUE(D13)-TIMEVALUE(C13),1)*24,2))
... A63: 46173 | B63: dom | C63: 14:00 | D63: 20:00 | E63: =IF(OR(C63="",D63=""),"",ROUND(MOD(TIMEVALUE(D63)-TIMEVALUE(C63),1)*24,2))

Sheet Giu
A1: Data | B1: Giorno | C1: Dalle | D1: Alle | E1: Ore | F1: Ruolo | G1: Volontario in turno | H1: Presente (sì/no) | I1: Sostituito da | J1: Note
A2: 46174 | B2: lun | C2: 08:00 | D2: 14:00 | E2: =IF(OR(C2="",D2=""),"",ROUND(MOD(TIMEVALUE(D2)-TIMEVALUE(C2),1)*24,2))
A3: 46174 | B3: lun | C3: 14:00 | D3: 20:00 | E3: =IF(OR(C3="",D3=""),"",ROUND(MOD(TIMEVALUE(D3)-TIMEVALUE(C3),1)*24,2))
A4: 46175 | B4: mar | C4: 08:00 | D4: 14:00 | E4: =IF(OR(C4="",D4=""),"",ROUND(MOD(TIMEVALUE(D4)-TIMEVALUE(C4),1)*24,2))
A5: 46175 | B5: mar | C5: 14:00 | D5: 20:00 | E5: =IF(OR(C5="",D5=""),"",ROUND(MOD(TIMEVALUE(D5)-TIMEVALUE(C5),1)*24,2))
A6: 46176 | B6: mer | C6: 08:00 | D6: 14:00 | E6: =IF(OR(C6="",D6=""),"",ROUND(MOD(TIMEVALUE(D6)-TIMEVALUE(C6),1)*24,2))
A7: 46176 | B7: mer | C7: 14:00 | D7: 20:00 | E7: =IF(OR(C7="",D7=""),"",ROUND(MOD(TIMEVALUE(D7)-TIMEVALUE(C7),1)*24,2))
A8: 46177 | B8: gio | C8: 08:00 | D8: 14:00 | E8: =IF(OR(C8="",D8=""),"",ROUND(MOD(TIMEVALUE(D8)-TIMEVALUE(C8),1)*24,2))
A9: 46177 | B9: gio | C9: 14:00 | D9: 20:00 | E9: =IF(OR(C9="",D9=""),"",ROUND(MOD(TIMEVALUE(D9)-TIMEVALUE(C9),1)*24,2))
A10: 46178 | B10: ven | C10: 08:00 | D10: 14:00 | E10: =IF(OR(C10="",D10=""),"",ROUND(MOD(TIMEVALUE(D10)-TIMEVALUE(C10),1)*24,2))
A11: 46178 | B11: ven | C11: 14:00 | D11: 20:00 | E11: =IF(OR(C11="",D11=""),"",ROUND(MOD(TIMEVALUE(D11)-TIMEVALUE(C11),1)*24,2))
A12: 46179 | B12: sab | C12: 08:00 | D12: 14:00 | E12: =IF(OR(C12="",D12=""),"",ROUND(MOD(TIMEVALUE(D12)-TIMEVALUE(C12),1)*24,2))
A13: 46179 | B13: sab | C13: 14:00 | D13: 20:00 | E13: =IF(OR(C13="",D13=""),"",ROUND(MOD(TIMEVALUE(D13)-TIMEVALUE(C13),1)*24,2))
... A61: 46203 | B61: mar | C61: 14:00 | D61: 20:00 | E61: =IF(OR(C61="",D61=""),"",ROUND(MOD(TIMEVALUE(D61)-TIMEVALUE(C61),1)*24,2))

Sheet Lug
A1: Data | B1: Giorno | C1: Dalle | D1: Alle | E1: Ore | F1: Ruolo | G1: Volontario in turno | H1: Presente (sì/no) | I1: Sostituito da | J1: Note
A2: 46204 | B2: mer | C2: 08:00 | D2: 14:00 | E2: =IF(OR(C2="",D2=""),"",ROUND(MOD(TIMEVALUE(D2)-TIMEVALUE(C2),1)*24,2))
A3: 46204 | B3: mer | C3: 14:00 | D3: 20:00 | E3: =IF(OR(C3="",D3=""),"",ROUND(MOD(TIMEVALUE(D3)-TIMEVALUE(C3),1)*24,2))
A4: 46205 | B4: gio | C4: 08:00 | D4: 14:00 | E4: =IF(OR(C4="",D4=""),"",ROUND(MOD(TIMEVALUE(D4)-TIMEVALUE(C4),1)*24,2))
A5: 46205 | B5: gio | C5: 14:00 | D5: 20:00 | E5: =IF(OR(C5="",D5=""),"",ROUND(MOD(TIMEVALUE(D5)-TIMEVALUE(C5),1)*24,2))
A6: 46206 | B6: ven | C6: 08:00 | D6: 14:00 | E6: =IF(OR(C6="",D6=""),"",ROUND(MOD(TIMEVALUE(D6)-TIMEVALUE(C6),1)*24,2))
A7: 46206 | B7: ven | C7: 14:00 | D7: 20:00 | E7: =IF(OR(C7="",D7=""),"",ROUND(MOD(TIMEVALUE(D7)-TIMEVALUE(C7),1)*24,2))
A8: 46207 | B8: sab | C8: 08:00 | D8: 14:00 | E8: =IF(OR(C8="",D8=""),"",ROUND(MOD(TIMEVALUE(D8)-TIMEVALUE(C8),1)*24,2))
A9: 46207 | B9: sab | C9: 14:00 | D9: 20:00 | E9: =IF(OR(C9="",D9=""),"",ROUND(MOD(TIMEVALUE(D9)-TIMEVALUE(C9),1)*24,2))
A10: 46208 | B10: dom | C10: 08:00 | D10: 14:00 | E10: =IF(OR(C10="",D10=""),"",ROUND(MOD(TIMEVALUE(D10)-TIMEVALUE(C10),1)*24,2))
A11: 46208 | B11: dom | C11: 14:00 | D11: 20:00 | E11: =IF(OR(C11="",D11=""),"",ROUND(MOD(TIMEVALUE(D11)-TIMEVALUE(C11),1)*24,2))
A12: 46209 | B12: lun | C12: 08:00 | D12: 14:00 | E12: =IF(OR(C12="",D12=""),"",ROUND(MOD(TIMEVALUE(D12)-TIMEVALUE(C12),1)*24,2))
A13: 46209 | B13: lun | C13: 14:00 | D13: 20:00 | E13: =IF(OR(C13="",D13=""),"",ROUND(MOD(TIMEVALUE(D13)-TIMEVALUE(C13),1)*24,2))
... A63: 46234 | B63: ven | C63: 14:00 | D63: 20:00 | E63: =IF(OR(C63="",D63=""),"",ROUND(MOD(TIMEVALUE(D63)-TIMEVALUE(C63),1)*24,2))

Sheet Ago
A1: Data | B1: Giorno | C1: Dalle | D1: Alle | E1: Ore | F1: Ruolo | G1: Volontario in turno | H1: Presente (sì/no) | I1: Sostituito da | J1: Note
A2: 46235 | B2: sab | C2: 08:00 | D2: 14:00 | E2: =IF(OR(C2="",D2=""),"",ROUND(MOD(TIMEVALUE(D2)-TIMEVALUE(C2),1)*24,2))
A3: 46235 | B3: sab | C3: 14:00 | D3: 20:00 | E3: =IF(OR(C3="",D3=""),"",ROUND(MOD(TIMEVALUE(D3)-TIMEVALUE(C3),1)*24,2))
A4: 46236 | B4: dom | C4: 08:00 | D4: 14:00 | E4: =IF(OR(C4="",D4=""),"",ROUND(MOD(TIMEVALUE(D4)-TIMEVALUE(C4),1)*24,2))
A5: 46236 | B5: dom | C5: 14:00 | D5: 20:00 | E5: =IF(OR(C5="",D5=""),"",ROUND(MOD(TIMEVALUE(D5)-TIMEVALUE(C5),1)*24,2))
A6: 46237 | B6: lun | C6: 08:00 | D6: 14:00 | E6: =IF(OR(C6="",D6=""),"",ROUND(MOD(TIMEVALUE(D6)-TIMEVALUE(C6),1)*24,2))
A7: 46237 | B7: lun | C7: 14:00 | D7: 20:00 | E7: =IF(OR(C7="",D7=""),"",ROUND(MOD(TIMEVALUE(D7)-TIMEVALUE(C7),1)*24,2))
A8: 46238 | B8: mar | C8: 08:00 | D8: 14:00 | E8: =IF(OR(C8="",D8=""),"",ROUND(MOD(TIMEVALUE(D8)-TIMEVALUE(C8),1)*24,2))
A9: 46238 | B9: mar | C9: 14:00 | D9: 20:00 | E9: =IF(OR(C9="",D9=""),"",ROUND(MOD(TIMEVALUE(D9)-TIMEVALUE(C9),1)*24,2))
A10: 46239 | B10: mer | C10: 08:00 | D10: 14:00 | E10: =IF(OR(C10="",D10=""),"",ROUND(MOD(TIMEVALUE(D10)-TIMEVALUE(C10),1)*24,2))
A11: 46239 | B11: mer | C11: 14:00 | D11: 20:00 | E11: =IF(OR(C11="",D11=""),"",ROUND(MOD(TIMEVALUE(D11)-TIMEVALUE(C11),1)*24,2))
A12: 46240 | B12: gio | C12: 08:00 | D12: 14:00 | E12: =IF(OR(C12="",D12=""),"",ROUND(MOD(TIMEVALUE(D12)-TIMEVALUE(C12),1)*24,2))
A13: 46240 | B13: gio | C13: 14:00 | D13: 20:00 | E13: =IF(OR(C13="",D13=""),"",ROUND(MOD(TIMEVALUE(D13)-TIMEVALUE(C13),1)*24,2))
... A63: 46265 | B63: lun | C63: 14:00 | D63: 20:00 | E63: =IF(OR(C63="",D63=""),"",ROUND(MOD(TIMEVALUE(D63)-TIMEVALUE(C63),1)*24,2))

Sheet Set
A1: Data | B1: Giorno | C1: Dalle | D1: Alle | E1: Ore | F1: Ruolo | G1: Volontario in turno | H1: Presente (sì/no) | I1: Sostituito da | J1: Note
A2: 46266 | B2: mar | C2: 08:00 | D2: 14:00 | E2: =IF(OR(C2="",D2=""),"",ROUND(MOD(TIMEVALUE(D2)-TIMEVALUE(C2),1)*24,2))
A3: 46266 | B3: mar | C3: 14:00 | D3: 20:00 | E3: =IF(OR(C3="",D3=""),"",ROUND(MOD(TIMEVALUE(D3)-TIMEVALUE(C3),1)*24,2))
A4: 46267 | B4: mer | C4: 08:00 | D4: 14:00 | E4: =IF(OR(C4="",D4=""),"",ROUND(MOD(TIMEVALUE(D4)-TIMEVALUE(C4),1)*24,2))
A5: 46267 | B5: mer | C5: 14:00 | D5: 20:00 | E5: =IF(OR(C5="",D5=""),"",ROUND(MOD(TIMEVALUE(D5)-TIMEVALUE(C5),1)*24,2))
A6: 46268 | B6: gio | C6: 08:00 | D6: 14:00 | E6: =IF(OR(C6="",D6=""),"",ROUND(MOD(TIMEVALUE(D6)-TIMEVALUE(C6),1)*24,2))
A7: 46268 | B7: gio | C7: 14:00 | D7: 20:00 | E7: =IF(OR(C7="",D7=""),"",ROUND(MOD(TIMEVALUE(D7)-TIMEVALUE(C7),1)*24,2))
A8: 46269 | B8: ven | C8: 08:00 | D8: 14:00 | E8: =IF(OR(C8="",D8=""),"",ROUND(MOD(TIMEVALUE(D8)-TIMEVALUE(C8),1)*24,2))
A9: 46269 | B9: ven | C9: 14:00 | D9: 20:00 | E9: =IF(OR(C9="",D9=""),"",ROUND(MOD(TIMEVALUE(D9)-TIMEVALUE(C9),1)*24,2))
A10: 46270 | B10: sab | C10: 08:00 | D10: 14:00 | E10: =IF(OR(C10="",D10=""),"",ROUND(MOD(TIMEVALUE(D10)-TIMEVALUE(C10),1)*24,2))
A11: 46270 | B11: sab | C11: 14:00 | D11: 20:00 | E11: =IF(OR(C11="",D11=""),"",ROUND(MOD(TIMEVALUE(D11)-TIMEVALUE(C11),1)*24,2))
A12: 46271 | B12: dom | C12: 08:00 | D12: 14:00 | E12: =IF(OR(C12="",D12=""),"",ROUND(MOD(TIMEVALUE(D12)-TIMEVALUE(C12),1)*24,2))
A13: 46271 | B13: dom | C13: 14:00 | D13: 20:00 | E13: =IF(OR(C13="",D13=""),"",ROUND(MOD(TIMEVALUE(D13)-TIMEVALUE(C13),1)*24,2))
... A61: 46295 | B61: mer | C61: 14:00 | D61: 20:00 | E61: =IF(OR(C61="",D61=""),"",ROUND(MOD(TIMEVALUE(D61)-TIMEVALUE(C61),1)*24,2))

Sheet Ott
A1: Data | B1: Giorno | C1: Dalle | D1: Alle | E1: Ore | F1: Ruolo | G1: Volontario in turno | H1: Presente (sì/no) | I1: Sostituito da | J1: Note
A2: 46296 | B2: gio | C2: 08:00 | D2: 14:00 | E2: =IF(OR(C2="",D2=""),"",ROUND(MOD(TIMEVALUE(D2)-TIMEVALUE(C2),1)*24,2))
A3: 46296 | B3: gio | C3: 14:00 | D3: 20:00 | E3: =IF(OR(C3="",D3=""),"",ROUND(MOD(TIMEVALUE(D3)-TIMEVALUE(C3),1)*24,2))
A4: 46297 | B4: ven | C4: 08:00 | D4: 14:00 | E4: =IF(OR(C4="",D4=""),"",ROUND(MOD(TIMEVALUE(D4)-TIMEVALUE(C4),1)*24,2))
A5: 46297 | B5: ven | C5: 14:00 | D5: 20:00 | E5: =IF(OR(C5="",D5=""),"",ROUND(MOD(TIMEVALUE(D5)-TIMEVALUE(C5),1)*24,2))
A6: 46298 | B6: sab | C6: 08:00 | D6: 14:00 | E6: =IF(OR(C6="",D6=""),"",ROUND(MOD(TIMEVALUE(D6)-TIMEVALUE(C6),1)*24,2))
A7: 46298 | B7: sab | C7: 14:00 | D7: 20:00 | E7: =IF(OR(C7="",D7=""),"",ROUND(MOD(TIMEVALUE(D7)-TIMEVALUE(C7),1)*24,2))
A8: 46299 | B8: dom | C8: 08:00 | D8: 14:00 | E8: =IF(OR(C8="",D8=""),"",ROUND(MOD(TIMEVALUE(D8)-TIMEVALUE(C8),1)*24,2))
A9: 46299 | B9: dom | C9: 14:00 | D9: 20:00 | E9: =IF(OR(C9="",D9=""),"",ROUND(MOD(TIMEVALUE(D9)-TIMEVALUE(C9),1)*24,2))
A10: 46300 | B10: lun | C10: 08:00 | D10: 14:00 | E10: =IF(OR(C10="",D10=""),"",ROUND(MOD(TIMEVALUE(D10)-TIMEVALUE(C10),1)*24,2))
A11: 46300 | B11: lun | C11: 14:00 | D11: 20:00 | E11: =IF(OR(C11="",D11=""),"",ROUND(MOD(TIMEVALUE(D11)-TIMEVALUE(C11),1)*24,2))
A12: 46301 | B12: mar | C12: 08:00 | D12: 14:00 | E12: =IF(OR(C12="",D12=""),"",ROUND(MOD(TIMEVALUE(D12)-TIMEVALUE(C12),1)*24,2))
A13: 46301 | B13: mar | C13: 14:00 | D13: 20:00 | E13: =IF(OR(C13="",D13=""),"",ROUND(MOD(TIMEVALUE(D13)-TIMEVALUE(C13),1)*24,2))
... A63: 46326 | B63: sab | C63: 14:00 | D63: 20:00 | E63: =IF(OR(C63="",D63=""),"",ROUND(MOD(TIMEVALUE(D63)-TIMEVALUE(C63),1)*24,2))

Sheet Nov
A1: Data | B1: Giorno | C1: Dalle | D1: Alle | E1: Ore | F1: Ruolo | G1: Volontario in turno | H1: Presente (sì/no) | I1: Sostituito da | J1: Note
A2: 46327 | B2: dom | C2: 08:00 | D2: 14:00 | E2: =IF(OR(C2="",D2=""),"",ROUND(MOD(TIMEVALUE(D2)-TIMEVALUE(C2),1)*24,2))
A3: 46327 | B3: dom | C3: 14:00 | D3: 20:00 | E3: =IF(OR(C3="",D3=""),"",ROUND(MOD(TIMEVALUE(D3)-TIMEVALUE(C3),1)*24,2))
A4: 46328 | B4: lun | C4: 08:00 | D4: 14:00 | E4: =IF(OR(C4="",D4=""),"",ROUND(MOD(TIMEVALUE(D4)-TIMEVALUE(C4),1)*24,2))
A5: 46328 | B5: lun | C5: 14:00 | D5: 20:00 | E5: =IF(OR(C5="",D5=""),"",ROUND(MOD(TIMEVALUE(D5)-TIMEVALUE(C5),1)*24,2))
A6: 46329 | B6: mar | C6: 08:00 | D6: 14:00 | E6: =IF(OR(C6="",D6=""),"",ROUND(MOD(TIMEVALUE(D6)-TIMEVALUE(C6),1)*24,2))
A7: 46329 | B7: mar | C7: 14:00 | D7: 20:00 | E7: =IF(OR(C7="",D7=""),"",ROUND(MOD(TIMEVALUE(D7)-TIMEVALUE(C7),1)*24,2))
A8: 46330 | B8: mer | C8: 08:00 | D8: 14:00 | E8: =IF(OR(C8="",D8=""),"",ROUND(MOD(TIMEVALUE(D8)-TIMEVALUE(C8),1)*24,2))
A9: 46330 | B9: mer | C9: 14:00 | D9: 20:00 | E9: =IF(OR(C9="",D9=""),"",ROUND(MOD(TIMEVALUE(D9)-TIMEVALUE(C9),1)*24,2))
A10: 46331 | B10: gio | C10: 08:00 | D10: 14:00 | E10: =IF(OR(C10="",D10=""),"",ROUND(MOD(TIMEVALUE(D10)-TIMEVALUE(C10),1)*24,2))
A11: 46331 | B11: gio | C11: 14:00 | D11: 20:00 | E11: =IF(OR(C11="",D11=""),"",ROUND(MOD(TIMEVALUE(D11)-TIMEVALUE(C11),1)*24,2))
A12: 46332 | B12: ven | C12: 08:00 | D12: 14:00 | E12: =IF(OR(C12="",D12=""),"",ROUND(MOD(TIMEVALUE(D12)-TIMEVALUE(C12),1)*24,2))
A13: 46332 | B13: ven | C13: 14:00 | D13: 20:00 | E13: =IF(OR(C13="",D13=""),"",ROUND(MOD(TIMEVALUE(D13)-TIMEVALUE(C13),1)*24,2))
... A61: 46356 | B61: lun | C61: 14:00 | D61: 20:00 | E61: =IF(OR(C61="",D61=""),"",ROUND(MOD(TIMEVALUE(D61)-TIMEVALUE(C61),1)*24,2))

Sheet Dic
A1: Data | B1: Giorno | C1: Dalle | D1: Alle | E1: Ore | F1: Ruolo | G1: Volontario in turno | H1: Presente (sì/no) | I1: Sostituito da | J1: Note
A2: 46357 | B2: mar | C2: 08:00 | D2: 14:00 | E2: =IF(OR(C2="",D2=""),"",ROUND(MOD(TIMEVALUE(D2)-TIMEVALUE(C2),1)*24,2))
A3: 46357 | B3: mar | C3: 14:00 | D3: 20:00 | E3: =IF(OR(C3="",D3=""),"",ROUND(MOD(TIMEVALUE(D3)-TIMEVALUE(C3),1)*24,2))
A4: 46358 | B4: mer | C4: 08:00 | D4: 14:00 | E4: =IF(OR(C4="",D4=""),"",ROUND(MOD(TIMEVALUE(D4)-TIMEVALUE(C4),1)*24,2))
A5: 46358 | B5: mer | C5: 14:00 | D5: 20:00 | E5: =IF(OR(C5="",D5=""),"",ROUND(MOD(TIMEVALUE(D5)-TIMEVALUE(C5),1)*24,2))
A6: 46359 | B6: gio | C6: 08:00 | D6: 14:00 | E6: =IF(OR(C6="",D6=""),"",ROUND(MOD(TIMEVALUE(D6)-TIMEVALUE(C6),1)*24,2))
A7: 46359 | B7: gio | C7: 14:00 | D7: 20:00 | E7: =IF(OR(C7="",D7=""),"",ROUND(MOD(TIMEVALUE(D7)-TIMEVALUE(C7),1)*24,2))
A8: 46360 | B8: ven | C8: 08:00 | D8: 14:00 | E8: =IF(OR(C8="",D8=""),"",ROUND(MOD(TIMEVALUE(D8)-TIMEVALUE(C8),1)*24,2))
A9: 46360 | B9: ven | C9: 14:00 | D9: 20:00 | E9: =IF(OR(C9="",D9=""),"",ROUND(MOD(TIMEVALUE(D9)-TIMEVALUE(C9),1)*24,2))
A10: 46361 | B10: sab | C10: 08:00 | D10: 14:00 | E10: =IF(OR(C10="",D10=""),"",ROUND(MOD(TIMEVALUE(D10)-TIMEVALUE(C10),1)*24,2))
A11: 46361 | B11: sab | C11: 14:00 | D11: 20:00 | E11: =IF(OR(C11="",D11=""),"",ROUND(MOD(TIMEVALUE(D11)-TIMEVALUE(C11),1)*24,2))
A12: 46362 | B12: dom | C12: 08:00 | D12: 14:00 | E12: =IF(OR(C12="",D12=""),"",ROUND(MOD(TIMEVALUE(D12)-TIMEVALUE(C12),1)*24,2))
A13: 46362 | B13: dom | C13: 14:00 | D13: 20:00 | E13: =IF(OR(C13="",D13=""),"",ROUND(MOD(TIMEVALUE(D13)-TIMEVALUE(C13),1)*24,2))
... A63: 46387 | B63: gio | C63: 14:00 | D63: 20:00 | E63: =IF(OR(C63="",D63=""),"",ROUND(MOD(TIMEVALUE(D63)-TIMEVALUE(C63),1)*24,2))

Sheet Come si usa
A1: Turni dei volontari 2026 — modello gratuito di SempliCo
A3: Come si usa:
A4: Un foglio per mese, con i giorni già scritti e due fasce al giorno (08-14 e 14-20). Cambiate gli orari, aggiungete righe per altri ruoli o per la notte: le ore si ricalcolano da sole, anche per i turni che passano la mezzanotte.
A6: Programmato e svolto:
A7: La colonna «Volontario in turno» è il programma; «Presente» dice se il turno è stato svolto. Il foglio «Ore per volontario» somma solo i turni con «sì».
A9: Assicurazione e registro:
A10: Chi presta servizio deve essere assicurato (art. 18 CTS) e, se non occasionale, iscritto nel registro dei volontari (art. 17). Il foglio turni non sostituisce il registro.
A12: Modello gratuito di SempliCo — semplico.net/modelli/turni-volontari
